BEGIN:VCALENDAR
VERSION:2.0
PRODID:-//Colorado Military Academy - ECPv6.15.19//NONSGML v1.0//EN
CALSCALE:GREGORIAN
METHOD:PUBLISH
X-WR-CALNAME:Colorado Military Academy
X-ORIGINAL-URL:https://coloradomilitaryacademy.org
X-WR-CALDESC:Events for Colorado Military Academy
REFRESH-INTERVAL;VALUE=DURATION:PT1H
X-Robots-Tag:noindex
X-PUBLISHED-TTL:PT1H
BEGIN:VTIMEZONE
TZID:America/Denver
BEGIN:DAYLIGHT
TZOFFSETFROM:-0700
TZOFFSETTO:-0600
TZNAME:MDT
DTSTART:20240310T090000
END:DAYLIGHT
BEGIN:STANDARD
TZOFFSETFROM:-0600
TZOFFSETTO:-0700
TZNAME:MST
DTSTART:20241103T080000
END:STANDARD
BEGIN:DAYLIGHT
TZOFFSETFROM:-0700
TZOFFSETTO:-0600
TZNAME:MDT
DTSTART:20250309T090000
END:DAYLIGHT
BEGIN:STANDARD
TZOFFSETFROM:-0600
TZOFFSETTO:-0700
TZNAME:MST
DTSTART:20251102T080000
END:STANDARD
BEGIN:DAYLIGHT
TZOFFSETFROM:-0700
TZOFFSETTO:-0600
TZNAME:MDT
DTSTART:20260308T090000
END:DAYLIGHT
BEGIN:STANDARD
TZOFFSETFROM:-0600
TZOFFSETTO:-0700
TZNAME:MST
DTSTART:20261101T080000
END:STANDARD
END:VTIMEZONE
BEGIN:VEVENT
DTSTART;TZID=America/Denver:20250510T170000
DTEND;TZID=America/Denver:20250510T200000
DTSTAMP:20260419T081126
CREATED:20250331T191622Z
LAST-MODIFIED:20250430T184529Z
UID:10000115-1746896400-1746907200@coloradomilitaryacademy.org
SUMMARY:CAP Ball
DESCRIPTION:
URL:https://coloradomilitaryacademy.org/event/cap-ball/
LOCATION:The Loft Music Venue\, 2506 W Colorado Ave\, Colorado Springs\, CO\, United States
CATEGORIES:Parent Calendar
GEO:38.847305;-104.86268
X-APPLE-STRUCTURED-LOCATION;VALUE=URI;X-ADDRESS=The Loft Music Venue 2506 W Colorado Ave Colorado Springs CO United States;X-APPLE-RADIUS=500;X-TITLE=2506 W Colorado Ave:geo:-104.86268,38.847305
END:VEVENT
END:VCALENDAR