BEGIN:VCALENDAR
VERSION:2.0
PRODID:-//Colorado Military Academy - ECPv6.15.20//NONSGML v1.0//EN
CALSCALE:GREGORIAN
METHOD:PUBLISH
X-WR-CALNAME:Colorado Military Academy
X-ORIGINAL-URL:https://coloradomilitaryacademy.org
X-WR-CALDESC:Events for Colorado Military Academy
REFRESH-INTERVAL;VALUE=DURATION:PT1H
X-Robots-Tag:noindex
X-PUBLISHED-TTL:PT1H
BEGIN:VTIMEZONE
TZID:America/Denver
BEGIN:DAYLIGHT
TZOFFSETFROM:-0700
TZOFFSETTO:-0600
TZNAME:MDT
DTSTART:20240310T090000
END:DAYLIGHT
BEGIN:STANDARD
TZOFFSETFROM:-0600
TZOFFSETTO:-0700
TZNAME:MST
DTSTART:20241103T080000
END:STANDARD
BEGIN:DAYLIGHT
TZOFFSETFROM:-0700
TZOFFSETTO:-0600
TZNAME:MDT
DTSTART:20250309T090000
END:DAYLIGHT
BEGIN:STANDARD
TZOFFSETFROM:-0600
TZOFFSETTO:-0700
TZNAME:MST
DTSTART:20251102T080000
END:STANDARD
BEGIN:DAYLIGHT
TZOFFSETFROM:-0700
TZOFFSETTO:-0600
TZNAME:MDT
DTSTART:20260308T090000
END:DAYLIGHT
BEGIN:STANDARD
TZOFFSETFROM:-0600
TZOFFSETTO:-0700
TZNAME:MST
DTSTART:20261101T080000
END:STANDARD
END:VTIMEZONE
BEGIN:VEVENT
DTSTART;VALUE=DATE:20250428
DTEND;VALUE=DATE:20250503
DTSTAMP:20260423T215628
CREATED:20250425T001541Z
LAST-MODIFIED:20250502T070039Z
UID:10000800-1745798400-1746230399@coloradomilitaryacademy.org
SUMMARY:Duty Flight (Charlie)
DESCRIPTION:Duty Flight is responsible for:\n1. raising and lowering the colors\n2. providing a detail for lunch room duties.
URL:https://coloradomilitaryacademy.org/event/duty-flight-charlie/
LOCATION:Parking lot\, Colorado Springs\, CO\, United States
CATEGORIES:Civil Air Patrol
GEO:38.849797;-104.717043
END:VEVENT
BEGIN:VEVENT
DTSTART;VALUE=DATE:20250428
DTEND;VALUE=DATE:20250429
DTSTAMP:20260423T215628
CREATED:20250425T001541Z
LAST-MODIFIED:20250428T210035Z
UID:10000798-1745798400-1745884799@coloradomilitaryacademy.org
SUMMARY:Promotion Checklist out
DESCRIPTION:Cadet need to secure a promotion checklist and get it to all assigned teachers to sign
URL:https://coloradomilitaryacademy.org/event/promotion-checklist-out/
LOCATION:Parking lot\, Colorado Springs\, CO\, United States
CATEGORIES:Civil Air Patrol
GEO:38.849797;-104.717043
END:VEVENT
BEGIN:VEVENT
DTSTART;VALUE=DATE:20250428
DTEND;VALUE=DATE:20250429
DTSTAMP:20260423T215628
CREATED:20250424T174631Z
LAST-MODIFIED:20250428T210035Z
UID:10000534-1745798400-1745884799@coloradomilitaryacademy.org
SUMMARY:Civil Air Patrol - Aerospace
DESCRIPTION:Cadets are required to pass the CAP aerospace exam with a score of 80% or better\nCadets are required to pass the CAP aerospace interactive
URL:https://coloradomilitaryacademy.org/event/civil-air-patrol-aerospace-time/
LOCATION:Parking lot\, Colorado Springs\, CO\, United States
CATEGORIES:Civil Air Patrol
GEO:38.849797;-104.717043
END:VEVENT
BEGIN:VEVENT
DTSTART;TZID=America/Denver:20250425T133000
DTEND;TZID=America/Denver:20250425T153000
DTSTAMP:20260423T215628
CREATED:20250425T001540Z
LAST-MODIFIED:20250425T210028Z
UID:10000795-1745587800-1745595000@coloradomilitaryacademy.org
SUMMARY:CAP Flight Time
DESCRIPTION:This is for CAP cadets only. Flight time  is at CMA where cadets will participate in different activities. This time also checks a block for promotion.
URL:https://coloradomilitaryacademy.org/event/cap-flight-time/
LOCATION:Parking lot\, Colorado Springs\, CO\, United States
CATEGORIES:Civil Air Patrol
GEO:38.849797;-104.717043
END:VEVENT
BEGIN:VEVENT
DTSTART;VALUE=DATE:20250425
DTEND;VALUE=DATE:20250426
DTSTAMP:20260423T215628
CREATED:20250425T174528Z
LAST-MODIFIED:20250425T231537Z
UID:10000816-1745539200-1745625599@coloradomilitaryacademy.org
SUMMARY:Civil Air Patrol - Physical Training
DESCRIPTION:Cadet is required to be in the correct PT uniform and participate in the PT activity. The correct uniform is Gold CMA shirt or Blue CMA sweats or solid navy blue sweats\, Blue basketball style shorts\, running shoes and water container. Incorrect uniform results in lunch detention. Makeup PT is done afterschool on Wednesdays.
URL:https://coloradomilitaryacademy.org/event/civil-air-patrol-physical-training/
LOCATION:Parking lot\, Colorado Springs\, CO\, United States
CATEGORIES:Civil Air Patrol
GEO:38.849797;-104.717043
END:VEVENT
BEGIN:VEVENT
DTSTART;VALUE=DATE:20250425
DTEND;VALUE=DATE:20250426
DTSTAMP:20260423T215628
CREATED:20250425T001540Z
LAST-MODIFIED:20250425T170028Z
UID:10000797-1745539200-1745625599@coloradomilitaryacademy.org
SUMMARY:Civil Air Patrol - Leadership
DESCRIPTION:Small group leadership skills.
URL:https://coloradomilitaryacademy.org/event/civil-air-patrol-leadership-35/
LOCATION:Parking lot\, Colorado Springs\, CO\, United States
CATEGORIES:Civil Air Patrol
GEO:38.849797;-104.717043
END:VEVENT
BEGIN:VEVENT
DTSTART;TZID=America/Denver:20250424T154500
DTEND;TZID=America/Denver:20250424T164500
DTSTAMP:20260423T215628
CREATED:20250424T174630Z
LAST-MODIFIED:20250424T211615Z
UID:10000532-1745509500-1745513100@coloradomilitaryacademy.org
SUMMARY:Color Guard Practice
DESCRIPTION:This time is for CO-805 Color Guard to practice.
URL:https://coloradomilitaryacademy.org/event/color-guard-practice/
LOCATION:Parking lot\, Colorado Springs\, CO\, United States
CATEGORIES:Civil Air Patrol
GEO:38.849797;-104.717043
END:VEVENT
BEGIN:VEVENT
DTSTART;VALUE=DATE:20250424
DTEND;VALUE=DATE:20250425
DTSTAMP:20260423T215628
CREATED:20250424T174631Z
LAST-MODIFIED:20250424T211615Z
UID:10000533-1745452800-1745539199@coloradomilitaryacademy.org
SUMMARY:Civil Air Patrol - Leadership
DESCRIPTION:Cadets are required to pass the CAP leadership interactive\nCadets are required to pass the CAP leadership exam with a score of 80% or better
URL:https://coloradomilitaryacademy.org/event/civil-air-patrol-leadership/
LOCATION:Parking lot\, Colorado Springs\, CO\, United States
CATEGORIES:Civil Air Patrol
GEO:38.849797;-104.717043
END:VEVENT
BEGIN:VEVENT
DTSTART;VALUE=DATE:20250422
DTEND;VALUE=DATE:20250426
DTSTAMP:20260423T215628
CREATED:20250425T001540Z
LAST-MODIFIED:20250425T231536Z
UID:10000796-1745280000-1745625599@coloradomilitaryacademy.org
SUMMARY:Duty Flight (Bravo)
DESCRIPTION:Duty Flight is responsible for:\n1. raising and lowering the colors\n2. providing a detail for lunch room duties.
URL:https://coloradomilitaryacademy.org/event/duty-flight-bravo/
LOCATION:Parking lot\, Colorado Springs\, CO\, United States
CATEGORIES:Civil Air Patrol
GEO:38.849797;-104.717043
END:VEVENT
END:VCALENDAR