BEGIN:VCALENDAR
VERSION:2.0
PRODID:-//Colorado Military Academy - ECPv6.15.19//NONSGML v1.0//EN
CALSCALE:GREGORIAN
METHOD:PUBLISH
X-ORIGINAL-URL:https://coloradomilitaryacademy.org
X-WR-CALDESC:Events for Colorado Military Academy
REFRESH-INTERVAL;VALUE=DURATION:PT1H
X-Robots-Tag:noindex
X-PUBLISHED-TTL:PT1H
BEGIN:VTIMEZONE
TZID:America/Denver
BEGIN:DAYLIGHT
TZOFFSETFROM:-0700
TZOFFSETTO:-0600
TZNAME:MDT
DTSTART:20250309T090000
END:DAYLIGHT
BEGIN:STANDARD
TZOFFSETFROM:-0600
TZOFFSETTO:-0700
TZNAME:MST
DTSTART:20251102T080000
END:STANDARD
BEGIN:DAYLIGHT
TZOFFSETFROM:-0700
TZOFFSETTO:-0600
TZNAME:MDT
DTSTART:20260308T090000
END:DAYLIGHT
BEGIN:STANDARD
TZOFFSETFROM:-0600
TZOFFSETTO:-0700
TZNAME:MST
DTSTART:20261101T080000
END:STANDARD
BEGIN:DAYLIGHT
TZOFFSETFROM:-0700
TZOFFSETTO:-0600
TZNAME:MDT
DTSTART:20270314T090000
END:DAYLIGHT
BEGIN:STANDARD
TZOFFSETFROM:-0600
TZOFFSETTO:-0700
TZNAME:MST
DTSTART:20271107T080000
END:STANDARD
END:VTIMEZONE
BEGIN:VEVENT
DTSTART;VALUE=DATE:20260305
DTEND;VALUE=DATE:20260306
DTSTAMP:20260419T092721
CREATED:20250423T163706Z
LAST-MODIFIED:20260305T193258Z
UID:10000310-1772668800-1772755199@coloradomilitaryacademy.org
SUMMARY:End of Term S2/ Q3
DESCRIPTION:
URL:https://coloradomilitaryacademy.org/event/end-of-term-s2-q3/
CATEGORIES:Parent Calendar
END:VEVENT
BEGIN:VEVENT
DTSTART;VALUE=DATE:20260305
DTEND;VALUE=DATE:20260306
DTSTAMP:20260419T092721
CREATED:20250918T194640Z
LAST-MODIFIED:20250918T194640Z
UID:10001136-1772668800-1772755199@coloradomilitaryacademy.org
SUMMARY:ESports Club
DESCRIPTION:ESports Club\nTime- 3:30-5:00/5:30pm\nRoom 202 \ndifferent games played each day. \n$40 Fee\nStaff- Ms. Wright
URL:https://coloradomilitaryacademy.org/event/esports-club-73/
CATEGORIES:Parent Calendar
END:VEVENT
BEGIN:VEVENT
DTSTART;VALUE=DATE:20260305
DTEND;VALUE=DATE:20260306
DTSTAMP:20260419T092721
CREATED:20250918T194641Z
LAST-MODIFIED:20250918T194641Z
UID:10001137-1772668800-1772755199@coloradomilitaryacademy.org
SUMMARY:Drumline
DESCRIPTION:CMA Drumline\nNo Student Fees \n6th – 12th \nTuesdays & Thursdays \n3:30pm-4:30pm\nStaff – Mr. Burnett & Mrs. Campbell
URL:https://coloradomilitaryacademy.org/event/drumline-49/
CATEGORIES:Parent Calendar
END:VEVENT
BEGIN:VEVENT
DTSTART;TZID=America/Denver:20260305T070000
DTEND;TZID=America/Denver:20260305T073000
DTSTAMP:20260419T092721
CREATED:20251008T201541Z
LAST-MODIFIED:20260305T134738Z
UID:10001679-1772694000-1772695800@coloradomilitaryacademy.org
SUMMARY:HS Tutoring- Appt. Only
DESCRIPTION:High School TutoringAppointment ONLYContact wright.l@cmacs.org Tuesdays-Fridays 7:00am-7:30am.(some tutoring available during lunch)
URL:https://coloradomilitaryacademy.org/event/hs-tutoring-appt-only-78/
CATEGORIES:Parent Calendar
END:VEVENT
BEGIN:VEVENT
DTSTART;TZID=America/Denver:20260305T151500
DTEND;TZID=America/Denver:20260305T162000
DTSTAMP:20260419T092721
CREATED:20251010T001548Z
LAST-MODIFIED:20260305T193258Z
UID:10001680-1772723700-1772727600@coloradomilitaryacademy.org
SUMMARY:Middle School Math Tutoring
DESCRIPTION:Middle School Math Tutoring\nGrades 7th & 8th \nStaff- Mrs. Smith\nTuesdays & Thursdays- After School- 3:15pm-4:20pm\nStudents meet in Cafeteria and then room 238.
URL:https://coloradomilitaryacademy.org/event/middle-school-math-tutoring-40/
CATEGORIES:Parent Calendar
END:VEVENT
BEGIN:VEVENT
DTSTART;TZID=America/Denver:20260305T153000
DTEND;TZID=America/Denver:20260305T163000
DTSTAMP:20260419T092721
CREATED:20250918T201543Z
LAST-MODIFIED:20260305T193258Z
UID:10001369-1772724600-1772728200@coloradomilitaryacademy.org
SUMMARY:Drumline
DESCRIPTION:CMA Drumline\nNo Student Fees \n6th – 12th \nTuesdays & Thursdays \n3:30pm-4:30pm\nStaff – Mr. Burnett & Mrs. Campbell
URL:https://coloradomilitaryacademy.org/event/drumline-103/
CATEGORIES:Parent Calendar
END:VEVENT
BEGIN:VEVENT
DTSTART;TZID=America/Denver:20260305T153000
DTEND;TZID=America/Denver:20260305T164500
DTSTAMP:20260419T092721
CREATED:20260129T163635Z
LAST-MODIFIED:20260305T193258Z
UID:10001886-1772724600-1772729100@coloradomilitaryacademy.org
SUMMARY:Active Raptors Club
DESCRIPTION:Active Raptors Club\n3rd and 4th Grade. \nCMA Elementary Gym & Astro Field \nStudent fee: $10
URL:https://coloradomilitaryacademy.org/event/active-raptors-club-10/
CATEGORIES:Parent Calendar
END:VEVENT
BEGIN:VEVENT
DTSTART;TZID=America/Denver:20260305T153000
DTEND;TZID=America/Denver:20260305T170000
DTSTAMP:20260419T092721
CREATED:20250918T211545Z
LAST-MODIFIED:20260305T193258Z
UID:10001446-1772724600-1772730000@coloradomilitaryacademy.org
SUMMARY:Drama Club-Elementary
DESCRIPTION:Drama Club\nGrades-K-6th\nTime- 3:30-5pm\nWeekly Tuesdays & Thursdays\nStaff Leaders – Mrs. Sommers & Mr. Gooden
URL:https://coloradomilitaryacademy.org/event/drama-club-elementary-56/
CATEGORIES:Parent Calendar
END:VEVENT
BEGIN:VEVENT
DTSTART;TZID=America/Denver:20260305T153000
DTEND;TZID=America/Denver:20260305T173000
DTSTAMP:20260419T092721
CREATED:20250918T201543Z
LAST-MODIFIED:20250923T151543Z
UID:10001370-1772724600-1772731800@coloradomilitaryacademy.org
SUMMARY:ESports Club
DESCRIPTION:ESports Club\nTime- 3:30-5:00/5:30pm\nRoom 202 \ndifferent games played each day. \n$40 Fee\nStaff- Ms. Wright
URL:https://coloradomilitaryacademy.org/event/esports-club-152/
CATEGORIES:Parent Calendar
END:VEVENT
BEGIN:VEVENT
DTSTART;TZID=America/Denver:20260305T153000
DTEND;TZID=America/Denver:20260305T173000
DTSTAMP:20260419T092721
CREATED:20251010T001548Z
LAST-MODIFIED:20260305T193258Z
UID:10001681-1772724600-1772731800@coloradomilitaryacademy.org
SUMMARY:ESports Club
DESCRIPTION:ESports Club\nTime- 3:30-5:00/5:30pm\nRoom 202 \ndifferent games played each day. \n$40 Fee\nStaff- Ms. Wright
URL:https://coloradomilitaryacademy.org/event/esports-club-212/
CATEGORIES:Parent Calendar
END:VEVENT
END:VCALENDAR